Package: EDIRquery Version: 1.9.0 Command: /Library/Frameworks/R.framework/Resources/bin/R CMD check --install=check:EDIRquery.install-out.txt --library=/Library/Frameworks/R.framework/Resources/library --no-vignettes --timings EDIRquery_1.9.0.tar.gz StartedAt: 2025-05-08 20:29:06 -0400 (Thu, 08 May 2025) EndedAt: 2025-05-08 20:32:32 -0400 (Thu, 08 May 2025) EllapsedTime: 206.8 seconds RetCode: 0 Status: OK CheckDir: EDIRquery.Rcheck Warnings: 0