Package: EDIRquery Version: 1.9.0 Command: /Library/Frameworks/R.framework/Resources/bin/R CMD build --keep-empty-dirs --no-resave-data EDIRquery StartedAt: 2025-05-08 16:41:39 -0400 (Thu, 08 May 2025) EndedAt: 2025-05-08 16:42:23 -0400 (Thu, 08 May 2025) EllapsedTime: 44.5 seconds RetCode: 0 Status: OK PackageFile: EDIRquery_1.9.0.tar.gz PackageFileSize: 1.377 MiB