Package: EDIRquery Version: 1.9.0 Command: /Library/Frameworks/R.framework/Resources/bin/R CMD INSTALL EDIRquery StartedAt: 2025-05-09 15:15:58 -0400 (Fri, 09 May 2025) EndedAt: 2025-05-09 15:16:10 -0400 (Fri, 09 May 2025) EllapsedTime: 11.4 seconds RetCode: 0 Status: OK