Package: EDIRquery Version: 1.9.0 Command: /Library/Frameworks/R.framework/Resources/bin/R CMD build --keep-empty-dirs --no-resave-data EDIRquery StartedAt: 2025-05-09 16:18:32 -0400 (Fri, 09 May 2025) EndedAt: 2025-05-09 16:18:51 -0400 (Fri, 09 May 2025) EllapsedTime: 19.2 seconds RetCode: 0 Status: OK PackageFile: EDIRquery_1.9.0.tar.gz PackageFileSize: 1.376 MiB