Package: EDASeq Version: 2.41.0 Command: /Library/Frameworks/R.framework/Resources/bin/R CMD build --keep-empty-dirs --no-resave-data EDASeq StartedAt: 2025-02-03 16:40:25 -0500 (Mon, 03 Feb 2025) EndedAt: 2025-02-03 16:41:39 -0500 (Mon, 03 Feb 2025) EllapsedTime: 74.3 seconds RetCode: 0 Status: OK PackageFile: EDASeq_2.41.0.tar.gz PackageFileSize: 1.085 MiB