Package: EBcoexpress Version: 1.53.0 Command: /home/biocbuild/bbs-3.22-bioc/R/bin/R CMD INSTALL EBcoexpress StartedAt: 2025-10-01 15:15:52 -0400 (Wed, 01 Oct 2025) EndedAt: 2025-10-01 15:15:57 -0400 (Wed, 01 Oct 2025) EllapsedTime: 4.8 seconds RetCode: 0 Status: OK