Package: EBcoexpress Version: 1.53.0 Command: /home/biocbuild/bbs-3.22-bioc/R/bin/R CMD build --keep-empty-dirs --no-resave-data --md5 EBcoexpress StartedAt: 2025-10-01 17:48:14 -0400 (Wed, 01 Oct 2025) EndedAt: 2025-10-01 17:48:34 -0400 (Wed, 01 Oct 2025) EllapsedTime: 20.0 seconds RetCode: 0 Status: OK PackageFile: EBcoexpress_1.53.0.tar.gz PackageFileSize: 3.037 MiB