Package: EBcoexpress Version: 1.53.0 Command: rm -rf EBcoexpress.buildbin-libdir && mkdir EBcoexpress.buildbin-libdir && /Users/biocbuild/BBS/utils/build-universal.sh EBcoexpress_1.53.0.tar.gz /Library/Frameworks/R.framework/Resources/bin/R EBcoexpress.buildbin-libdir StartedAt: 2025-05-09 22:39:29 -0400 (Fri, 09 May 2025) EndedAt: 2025-05-09 22:39:33 -0400 (Fri, 09 May 2025) EllapsedTime: 4.1 seconds RetCode: 0 Status: OK PackageFile: EBcoexpress_1.53.0.tgz PackageFileSize: 2.749 MiB