Package: EBcoexpress Version: 1.53.0 Maintainer: John A. Dawson MaintainerEmail: jadawson at wisc.edu git_url: https://git.bioconductor.org/packages/EBcoexpress git_branch: devel git_last_commit: 4d3e579 git_last_commit_date: 2025-04-15 10:13:30 -0400 (Tue, 15 Apr 2025)