Package: EBarrays Version: 2.71.0 Command: E:\biocbuild\bbs-3.21-bioc\R\bin\R.exe CMD INSTALL EBarrays StartedAt: 2025-02-03 15:36:47 -0500 (Mon, 03 Feb 2025) EndedAt: 2025-02-03 15:37:12 -0500 (Mon, 03 Feb 2025) EllapsedTime: 25.0 seconds RetCode: 0 Status: OK