Package: EBarrays Version: 2.73.0 Command: /home/biocbuild/bbs-3.22-bioc/R/bin/R CMD INSTALL EBarrays StartedAt: 2025-07-15 15:10:51 -0400 (Tue, 15 Jul 2025) EndedAt: 2025-07-15 15:10:58 -0400 (Tue, 15 Jul 2025) EllapsedTime: 7.2 seconds RetCode: 0 Status: OK