Package: EBarrays Version: 2.73.0 Command: /home/biocbuild/bbs-3.22-bioc/R/bin/R CMD build --keep-empty-dirs --no-resave-data --md5 EBarrays StartedAt: 2025-07-15 17:02:45 -0400 (Tue, 15 Jul 2025) EndedAt: 2025-07-15 17:03:02 -0400 (Tue, 15 Jul 2025) EllapsedTime: 17.0 seconds RetCode: 0 Status: OK PackageFile: EBarrays_2.73.0.tar.gz PackageFileSize: 1.04 MiB