Package: EBarrays Version: 2.71.0 Command: /Library/Frameworks/R.framework/Resources/bin/R CMD build --keep-empty-dirs --no-resave-data EBarrays StartedAt: 2025-02-03 16:40:02 -0500 (Mon, 03 Feb 2025) EndedAt: 2025-02-03 16:40:25 -0500 (Mon, 03 Feb 2025) EllapsedTime: 23.0 seconds RetCode: 0 Status: OK PackageFile: EBarrays_2.71.0.tar.gz PackageFileSize: 1.039 MiB