Package: EBarrays Version: 2.71.0 Command: /home/biocbuild/R/R/bin/R CMD check --install=check:EBarrays.install-out.txt --library=/home/biocbuild/R/R/site-library --no-vignettes --timings EBarrays_2.71.0.tar.gz StartedAt: 2025-01-28 10:11:31 -0000 (Tue, 28 Jan 2025) EndedAt: 2025-01-28 10:12:24 -0000 (Tue, 28 Jan 2025) EllapsedTime: 53.1 seconds RetCode: 0 Status: OK CheckDir: EBarrays.Rcheck Warnings: 0