Package: EBSEA Version: 1.37.0 Command: /home/biocbuild/bbs-3.22-bioc/R/bin/R CMD INSTALL EBSEA StartedAt: 2025-10-19 15:31:43 -0400 (Sun, 19 Oct 2025) EndedAt: 2025-10-19 15:32:07 -0400 (Sun, 19 Oct 2025) EllapsedTime: 23.2 seconds RetCode: 0 Status: OK