Package: EBImage Version: 4.51.0 Command: /home/biocbuild/R/R/bin/R CMD build --keep-empty-dirs --no-resave-data EBImage StartedAt: 2025-10-02 23:44:50 -0000 (Thu, 02 Oct 2025) EndedAt: 2025-10-02 23:45:36 -0000 (Thu, 02 Oct 2025) EllapsedTime: 46.0 seconds RetCode: 0 Status: OK PackageFile: EBImage_4.51.0.tar.gz PackageFileSize: 4.681 MiB