Package: EBImage Version: 4.51.0 Command: F:\biocbuild\bbs-3.22-bioc\R\bin\R.exe CMD INSTALL EBImage StartedAt: 2025-08-14 15:34:55 -0400 (Thu, 14 Aug 2025) EndedAt: 2025-08-14 15:35:46 -0400 (Thu, 14 Aug 2025) EllapsedTime: 50.9 seconds RetCode: 0 Status: OK