Package: EBImage Version: 4.51.0 Command: /home/biocbuild/bbs-3.22-bioc/R/bin/R CMD build --keep-empty-dirs --no-resave-data --md5 EBImage StartedAt: 2025-10-28 17:26:46 -0400 (Tue, 28 Oct 2025) EndedAt: 2025-10-28 17:27:20 -0400 (Tue, 28 Oct 2025) EllapsedTime: 34.0 seconds RetCode: 0 Status: OK PackageFile: EBImage_4.51.0.tar.gz PackageFileSize: 5.213 MiB