Package: EBImage Version: 4.51.0 Command: /Library/Frameworks/R.framework/Resources/bin/R CMD INSTALL EBImage StartedAt: 2025-05-04 15:12:22 -0400 (Sun, 04 May 2025) EndedAt: 2025-05-04 15:12:38 -0400 (Sun, 04 May 2025) EllapsedTime: 15.9 seconds RetCode: 0 Status: OK