Package: EBImage Version: 4.51.0 Command: /Library/Frameworks/R.framework/Resources/bin/R CMD check --install=check:EBImage.install-out.txt --library=/Library/Frameworks/R.framework/Resources/library --no-vignettes --timings EBImage_4.51.0.tar.gz StartedAt: 2025-05-05 20:26:08 -0400 (Mon, 05 May 2025) EndedAt: 2025-05-05 20:27:36 -0400 (Mon, 05 May 2025) EllapsedTime: 87.6 seconds RetCode: 0 Status: OK CheckDir: EBImage.Rcheck Warnings: 0