Package: EBImage Version: 4.51.0 Command: /Library/Frameworks/R.framework/Resources/bin/R CMD build --keep-empty-dirs --no-resave-data EBImage StartedAt: 2025-05-05 16:40:19 -0400 (Mon, 05 May 2025) EndedAt: 2025-05-05 16:41:05 -0400 (Mon, 05 May 2025) EllapsedTime: 45.7 seconds RetCode: 0 Status: OK PackageFile: EBImage_4.51.0.tar.gz PackageFileSize: 6.296 MiB