Package: EBImage Version: 4.51.0 Command: rm -rf EBImage.buildbin-libdir && mkdir EBImage.buildbin-libdir && /Users/biocbuild/BBS/utils/build-universal.sh EBImage_4.51.0.tar.gz /Library/Frameworks/R.framework/Resources/bin/R EBImage.buildbin-libdir StartedAt: 2025-05-06 00:41:20 -0400 (Tue, 06 May 2025) EndedAt: 2025-05-06 00:41:43 -0400 (Tue, 06 May 2025) EllapsedTime: 23.1 seconds RetCode: 0 Status: OK PackageFile: EBImage_4.51.0.tgz PackageFileSize: 6.66 MiB