Package: DynDoc Version: 1.87.0 Command: /home/biocbuild/R/R/bin/R CMD INSTALL DynDoc StartedAt: 2025-10-16 21:08:33 -0000 (Thu, 16 Oct 2025) EndedAt: 2025-10-16 21:08:50 -0000 (Thu, 16 Oct 2025) EllapsedTime: 16.7 seconds RetCode: 0 Status: OK