Package: DynDoc Version: 1.87.0 Command: /home/biocbuild/R/R/bin/R CMD build --keep-empty-dirs --no-resave-data DynDoc StartedAt: 2025-10-17 00:51:41 -0000 (Fri, 17 Oct 2025) EndedAt: 2025-10-17 00:51:42 -0000 (Fri, 17 Oct 2025) EllapsedTime: 1.0 seconds RetCode: 0 Status: OK PackageFile: DynDoc_1.87.0.tar.gz PackageFileSize: 10.97 KiB