Package: DuplexDiscovereR Version: 1.5.0 Command: /home/biocbuild/bbs-3.23-bioc/R/bin/R CMD INSTALL DuplexDiscovereR StartedAt: 2025-11-11 15:52:16 -0500 (Tue, 11 Nov 2025) EndedAt: 2025-11-11 15:53:43 -0500 (Tue, 11 Nov 2025) EllapsedTime: 87.0 seconds RetCode: 0 Status: OK