Package: DuplexDiscovereR Version: 1.3.2 Command: rm -rf DuplexDiscovereR.buildbin-libdir && mkdir DuplexDiscovereR.buildbin-libdir && /Users/biocbuild/BBS/utils/build-universal.sh DuplexDiscovereR_1.3.2.tar.gz /Library/Frameworks/R.framework/Resources/bin/R DuplexDiscovereR.buildbin-libdir StartedAt: 2025-10-02 01:48:29 -0400 (Thu, 02 Oct 2025) EndedAt: 2025-10-02 01:50:25 -0400 (Thu, 02 Oct 2025) EllapsedTime: 115.8 seconds RetCode: 0 Status: OK PackageFile: DuplexDiscovereR_1.3.2.tgz PackageFileSize: 1.551 MiB