Package: DuplexDiscovereR Version: 1.3.4 Command: /Library/Frameworks/R.framework/Resources/bin/R CMD INSTALL DuplexDiscovereR StartedAt: 2025-10-23 15:24:53 -0400 (Thu, 23 Oct 2025) EndedAt: 2025-10-23 15:25:29 -0400 (Thu, 23 Oct 2025) EllapsedTime: 36.3 seconds RetCode: 0 Status: OK