Package: DuplexDiscovereR Version: 1.3.4 Command: /Library/Frameworks/R.framework/Resources/bin/R CMD build --keep-empty-dirs --no-resave-data DuplexDiscovereR StartedAt: 2025-10-23 16:17:10 -0400 (Thu, 23 Oct 2025) EndedAt: 2025-10-23 16:18:10 -0400 (Thu, 23 Oct 2025) EllapsedTime: 59.6 seconds RetCode: 0 Status: OK PackageFile: DuplexDiscovereR_1.3.4.tar.gz PackageFileSize: 998 KiB