Package: DuplexDiscovereR Version: 1.3.4 Command: rm -rf DuplexDiscovereR.buildbin-libdir && mkdir DuplexDiscovereR.buildbin-libdir && /Users/biocbuild/BBS/utils/build-universal.sh DuplexDiscovereR_1.3.4.tar.gz /Library/Frameworks/R.framework/Resources/bin/R DuplexDiscovereR.buildbin-libdir StartedAt: 2025-10-23 23:08:13 -0400 (Thu, 23 Oct 2025) EndedAt: 2025-10-23 23:08:53 -0400 (Thu, 23 Oct 2025) EllapsedTime: 40.0 seconds RetCode: 0 Status: OK PackageFile: DuplexDiscovereR_1.3.4.tgz PackageFileSize: 1.556 MiB