Package: Dune Version: 1.21.0 Command: /home/biocbuild/bbs-3.22-bioc/R/bin/R CMD INSTALL Dune StartedAt: 2025-10-16 16:21:01 -0400 (Thu, 16 Oct 2025) EndedAt: 2025-10-16 16:21:28 -0400 (Thu, 16 Oct 2025) EllapsedTime: 27.1 seconds RetCode: 0 Status: OK