Package: DspikeIn Version: 0.99.29 Command: /home/biocbuild/bbs-3.22-bioc/R/bin/R CMD build --keep-empty-dirs --no-resave-data --md5 DspikeIn StartedAt: 2025-10-28 17:25:02 -0400 (Tue, 28 Oct 2025) EndedAt: 2025-10-28 17:26:13 -0400 (Tue, 28 Oct 2025) EllapsedTime: 71.0 seconds RetCode: 1 Status: ERROR PackageFile: None PackageFileSize: NA