Package: DspikeIn Version: 1.1.0 Command: /home/biocbuild/bbs-3.23-bioc/R/bin/R CMD INSTALL DspikeIn StartedAt: 2025-11-19 15:41:12 -0500 (Wed, 19 Nov 2025) EndedAt: 2025-11-19 15:42:07 -0500 (Wed, 19 Nov 2025) EllapsedTime: 54.9 seconds RetCode: 0 Status: OK