Package: DrugVsDisease Version: 2.51.0 Command: /home/biocbuild/R/R/bin/R CMD build --keep-empty-dirs --no-resave-data DrugVsDisease StartedAt: 2025-10-06 23:26:21 -0000 (Mon, 06 Oct 2025) EndedAt: 2025-10-06 23:27:08 -0000 (Mon, 06 Oct 2025) EllapsedTime: 47.0 seconds RetCode: 0 Status: OK PackageFile: DrugVsDisease_2.51.0.tar.gz PackageFileSize: 1.824 MiB