Package: DrugVsDisease Version: 2.49.0 Command: /Library/Frameworks/R.framework/Resources/bin/R CMD INSTALL DrugVsDisease StartedAt: 2025-02-16 15:23:08 -0500 (Sun, 16 Feb 2025) EndedAt: 2025-02-16 15:23:09 -0500 (Sun, 16 Feb 2025) EllapsedTime: 1.2 seconds RetCode: 1 Status: ERROR