Package: DrugVsDisease Version: 2.51.0 Command: rm -rf DrugVsDisease.buildbin-libdir && mkdir DrugVsDisease.buildbin-libdir && /Users/biocbuild/BBS/utils/build-universal.sh DrugVsDisease_2.51.0.tar.gz /Library/Frameworks/R.framework/Resources/bin/R DrugVsDisease.buildbin-libdir StartedAt: 2025-10-25 01:38:13 -0400 (Sat, 25 Oct 2025) EndedAt: 2025-10-25 01:39:04 -0400 (Sat, 25 Oct 2025) EllapsedTime: 50.8 seconds RetCode: 0 Status: OK PackageFile: DrugVsDisease_2.51.0.tgz PackageFileSize: 2.696 MiB