Package: DrugVsDisease Version: 2.49.0 Command: /Library/Frameworks/R.framework/Resources/bin/R CMD INSTALL DrugVsDisease StartedAt: 2025-02-05 15:13:41 -0500 (Wed, 05 Feb 2025) EndedAt: 2025-02-05 15:13:42 -0500 (Wed, 05 Feb 2025) EllapsedTime: 1.4 seconds RetCode: 1 Status: ERROR