Package: DrugVsDisease Version: 2.49.0 Command: /Library/Frameworks/R.framework/Resources/bin/R CMD build --keep-empty-dirs --no-resave-data DrugVsDisease StartedAt: 2025-02-05 16:12:37 -0500 (Wed, 05 Feb 2025) EndedAt: 2025-02-05 16:12:38 -0500 (Wed, 05 Feb 2025) EllapsedTime: 1.0 seconds RetCode: 1 Status: ERROR PackageFile: None PackageFileSize: NA