Package: DrugVsDisease Version: 2.51.0 Command: rm -rf DrugVsDisease.buildbin-libdir && mkdir DrugVsDisease.buildbin-libdir && /Users/biocbuild/BBS/utils/build-universal.sh DrugVsDisease_2.51.0.tar.gz /Library/Frameworks/R.framework/Resources/bin/R DrugVsDisease.buildbin-libdir StartedAt: 2025-10-16 22:59:49 -0400 (Thu, 16 Oct 2025) EndedAt: 2025-10-16 23:00:05 -0400 (Thu, 16 Oct 2025) EllapsedTime: 16.4 seconds RetCode: 0 Status: OK PackageFile: DrugVsDisease_2.51.0.tgz PackageFileSize: 2.697 MiB