Package: DriverNet Version: 1.49.0 Command: /home/biocbuild/R/R/bin/R CMD INSTALL DriverNet StartedAt: 2025-10-23 20:19:28 -0000 (Thu, 23 Oct 2025) EndedAt: 2025-10-23 20:20:02 -0000 (Thu, 23 Oct 2025) EllapsedTime: 34.4 seconds RetCode: 0 Status: OK