Package: DriverNet Version: 1.49.0 Command: /home/biocbuild/R/R/bin/R CMD build --keep-empty-dirs --no-resave-data DriverNet StartedAt: 2025-10-20 23:29:28 -0000 (Mon, 20 Oct 2025) EndedAt: 2025-10-20 23:30:04 -0000 (Mon, 20 Oct 2025) EllapsedTime: 36.0 seconds RetCode: 0 Status: OK PackageFile: DriverNet_1.49.0.tar.gz PackageFileSize: 1.109 MiB