Package: DriverNet Version: 1.49.0 Command: rm -rf DriverNet.buildbin-libdir && mkdir DriverNet.buildbin-libdir && F:\biocbuild\bbs-3.22-bioc\R\bin\R.exe CMD INSTALL --build --library=DriverNet.buildbin-libdir DriverNet_1.49.0.tar.gz StartedAt: 2025-08-15 10:11:27 -0400 (Fri, 15 Aug 2025) EndedAt: 2025-08-15 10:11:39 -0400 (Fri, 15 Aug 2025) EllapsedTime: 11.7 seconds RetCode: 0 Status: OK PackageFile: DriverNet_1.49.0.zip PackageFileSize: 1.176 MiB