Package: DriverNet Version: 1.47.0 Command: chmod a+r DriverNet -R && E:\biocbuild\bbs-3.21-bioc\R\bin\R.exe CMD build --keep-empty-dirs --no-resave-data DriverNet StartedAt: 2025-02-05 18:32:09 -0500 (Wed, 05 Feb 2025) EndedAt: 2025-02-05 18:33:08 -0500 (Wed, 05 Feb 2025) EllapsedTime: 59.1 seconds RetCode: 0 Status: OK PackageFile: DriverNet_1.47.0.tar.gz PackageFileSize: 1.117 MiB