Package: DriverNet Version: 1.47.0 Command: /home/biocbuild/bbs-3.21-bioc/R/bin/R CMD check --install=check:DriverNet.install-out.txt --library=/home/biocbuild/bbs-3.21-bioc/R/site-library --timings DriverNet_1.47.0.tar.gz StartedAt: 2025-02-05 21:57:21 -0500 (Wed, 05 Feb 2025) EndedAt: 2025-02-05 21:59:15 -0500 (Wed, 05 Feb 2025) EllapsedTime: 114.1 seconds RetCode: 0 Status: OK CheckDir: DriverNet.Rcheck Warnings: 0