Package: DriverNet Version: 1.47.0 Command: /home/biocbuild/bbs-3.21-bioc/R/bin/R CMD build --keep-empty-dirs --no-resave-data DriverNet StartedAt: 2025-02-05 17:04:38 -0500 (Wed, 05 Feb 2025) EndedAt: 2025-02-05 17:05:12 -0500 (Wed, 05 Feb 2025) EllapsedTime: 34.1 seconds RetCode: 0 Status: OK PackageFile: DriverNet_1.47.0.tar.gz PackageFileSize: 1.116 MiB