Package: DriverNet Version: 1.47.0 Command: /Library/Frameworks/R.framework/Resources/bin/R CMD INSTALL DriverNet StartedAt: 2025-02-02 15:03:26 -0500 (Sun, 02 Feb 2025) EndedAt: 2025-02-02 15:03:46 -0500 (Sun, 02 Feb 2025) EllapsedTime: 19.2 seconds RetCode: 0 Status: OK