Package: DriverNet Version: 1.47.0 Command: /Library/Frameworks/R.framework/Resources/bin/R CMD check --install=check:DriverNet.install-out.txt --library=/Library/Frameworks/R.framework/Resources/library --no-vignettes --timings DriverNet_1.47.0.tar.gz StartedAt: 2025-02-02 20:08:16 -0500 (Sun, 02 Feb 2025) EndedAt: 2025-02-02 20:09:48 -0500 (Sun, 02 Feb 2025) EllapsedTime: 92.5 seconds RetCode: 0 Status: OK CheckDir: DriverNet.Rcheck Warnings: 0