Package: DriverNet Version: 1.47.0 Command: /home/biocbuild/R/R/bin/R CMD check --install=check:DriverNet.install-out.txt --library=/home/biocbuild/R/R/site-library --no-vignettes --timings DriverNet_1.47.0.tar.gz StartedAt: 2025-01-28 10:08:30 -0000 (Tue, 28 Jan 2025) EndedAt: 2025-01-28 10:10:04 -0000 (Tue, 28 Jan 2025) EllapsedTime: 94.1 seconds RetCode: 0 Status: OK CheckDir: DriverNet.Rcheck Warnings: 0