Package: DriverNet Version: 1.47.0 Command: rm -rf DriverNet.buildbin-libdir && mkdir DriverNet.buildbin-libdir && /Users/biocbuild/BBS/utils/build-universal.sh DriverNet_1.47.0.tar.gz /Library/Frameworks/R.framework/Resources/bin/R DriverNet.buildbin-libdir StartedAt: 2025-02-03 22:48:48 -0500 (Mon, 03 Feb 2025) EndedAt: 2025-02-03 22:48:50 -0500 (Mon, 03 Feb 2025) EllapsedTime: 2.0 seconds RetCode: 0 Status: OK PackageFile: DriverNet_1.47.0.tgz PackageFileSize: 1.173 MiB