Package: Doscheda Version: 1.31.0 Command: chmod a+r Doscheda -R && F:\biocbuild\bbs-3.22-bioc\R\bin\R.exe CMD build --keep-empty-dirs --no-resave-data Doscheda StartedAt: 2025-08-14 19:48:43 -0400 (Thu, 14 Aug 2025) EndedAt: 2025-08-14 19:49:51 -0400 (Thu, 14 Aug 2025) EllapsedTime: 68.0 seconds RetCode: 0 Status: OK PackageFile: Doscheda_1.31.0.tar.gz PackageFileSize: 3.215 MiB