Package: DominoEffect Version: 1.29.3 Command: /home/biocbuild/bbs-3.22-bioc/R/bin/R CMD build --keep-empty-dirs --no-resave-data --md5 DominoEffect StartedAt: 2025-10-03 17:22:25 -0400 (Fri, 03 Oct 2025) EndedAt: 2025-10-03 17:23:46 -0400 (Fri, 03 Oct 2025) EllapsedTime: 81.1 seconds RetCode: 0 Status: OK PackageFile: DominoEffect_1.29.3.tar.gz PackageFileSize: 474.5 KiB